BEGIN:VCALENDAR
VERSION:2.0
PRODID:-//Tukios.com/
BEGIN:VEVENT
UID:965c772a-e4e4-439d-9391-6622b79be706@www.mortensenfuneralhomes.com
DTSTAMP:20260420T081312Z
DTSTART:20260608T160000Z
DTEND:20260608T170000Z
SUMMARY:Visitation
DESCRIPTION:
URL:https://www.mortensenfuneralhomes.com/obituaries/susan-johnson
LOCATION:Central Lake Chapel of Mortensen Funeral Homes 2333 South Main 
	Street  Central Lake MI 49622
GEO:45.0692221;-85.2647536
END:VEVENT
END:VCALENDAR