BEGIN:VCALENDAR
VERSION:2.0
PRODID:-//Tukios.com/
BEGIN:VEVENT
UID:7cfc45a3-f53f-4559-a561-bbbc3e0d80a5@www.mortensenfuneralhomes.com
DTSTAMP:20260420T081312Z
DTSTART:20260608T170000Z
DTEND:20260608T180000Z
SUMMARY:Memorial Service
DESCRIPTION:
URL:https://www.mortensenfuneralhomes.com/obituaries/susan-johnson
LOCATION:Central Lake Chapel of Mortensen Funeral Homes 2333 South Main 
	Street  Central Lake MI 49622
GEO:45.0692221;-85.2647536
END:VEVENT
END:VCALENDAR